BEGIN:VCALENDAR
VERSION:2.0
PRODID:icalendar-ruby
CALSCALE:GREGORIAN
METHOD:PUBLISH
BEGIN:VEVENT
DTSTAMP:20260425T183326Z
UID:6b02f711-53a3-4b84-8f64-c7973620fa35
DTSTART:20221022T130000
DTEND:20221022T230000
DESCRIPTION:<p>elrow ADE 2022</p>
LOCATION:52.34241212152375\, 4.838184807392541
SUMMARY:elrow ADE 2022
URL;VALUE=URI:https://elrow.howler.co.za/ade22
END:VEVENT
END:VCALENDAR
