BEGIN:VCALENDAR
VERSION:2.0
PRODID:icalendar-ruby
CALSCALE:GREGORIAN
METHOD:PUBLISH
BEGIN:VEVENT
DTSTAMP:20260425T172048Z
UID:793b1b91-e6e6-4e9a-8be3-cd69f339aeff
DTSTART:20211022T120000
DTEND:20211022T230000
DESCRIPTION:<h1><a href="https://elrow.howler.events/events/elrow-ade-2022-
 c552/tickets" target="_blank">>>> BUY TICKETS <<<</a></h1>
LOCATION:52.34241212152375\, 4.838184807392541
SUMMARY:elrow ADE 2022 - Ticket Pre Registration
URL;VALUE=URI:https://elrow.howler.co.za/ADE2022PR
END:VEVENT
END:VCALENDAR
