BEGIN:VCALENDAR
VERSION:2.0
PRODID:icalendar-ruby
CALSCALE:GREGORIAN
METHOD:PUBLISH
BEGIN:VEVENT
DTSTAMP:20260421T064053Z
UID:b3636f02-9399-42b9-ba17-5ce7426e00c7
DTSTART:20220604T140000
DTEND:20220604T230000
DESCRIPTION:<p>elrow Liverpool 4 June 2022</p>
LOCATION:Kirkdale\, Liverpool
SUMMARY:elrow Liverpool 4 June 2022
URL;VALUE=URI:https://elrow.howler.co.za/liverpool4june
END:VEVENT
END:VCALENDAR
