BEGIN:VCALENDAR
VERSION:2.0
PRODID:icalendar-ruby
CALSCALE:GREGORIAN
METHOD:PUBLISH
BEGIN:VEVENT
DTSTAMP:20260423T075846Z
UID:b4698b23-12ad-4358-824e-4885d4a981d1
DTSTART:20230831T120000
DTEND:20230901T000000
DESCRIPTION:<p>elrow Mallorca XXL - Sign Up</p>
LOCATION:Camí vell de buñyola s/n 07009 Palma de Mallorca. Illes Balears
SUMMARY:elrow Mallorca XXL - Sign Up
URL;VALUE=URI:https://elrow.howler.co.za/malaga24SU
END:VEVENT
END:VCALENDAR
