BEGIN:VCALENDAR
VERSION:2.0
PRODID:icalendar-ruby
CALSCALE:GREGORIAN
METHOD:PUBLISH
BEGIN:VEVENT
DTSTAMP:20260420T110159Z
UID:2aee0ef5-99cd-4576-9eff-26bb24a117e6
DTSTART:20230310T220000
DTEND:20230311T060000
DESCRIPTION:<p>elrow Rotterdam 2023</p>
LOCATION:Ahoyweg 10\, 3084 BA Rotterdam\, Netherlands
SUMMARY:elrow Rotterdam 2023
URL;VALUE=URI:https://elrow.howler.co.za/rotterdam23
END:VEVENT
END:VCALENDAR
