BEGIN:VCALENDAR
VERSION:2.0
PRODID:icalendar-ruby
CALSCALE:GREGORIAN
METHOD:PUBLISH
BEGIN:VEVENT
DTSTAMP:20260423T123834Z
UID:2f9835ea-e834-48b7-8cca-7931b06d90a2
DTSTART:20220722T120000
DTEND:20220722T230000
DESCRIPTION:<p><strong>elrow Town London 2023 - Loyalty Tickets Pre Registr
 ation</strong></p><p><strong>Tuesday 29th November at 12:00 GMT the first 
 5.000 loyalty tickets go on sale - Sign up is mandatory to access</strong>
 </p>
LOCATION:East London\, 333 Ivyhouse Rd\, Dagenham RM9 5SA\, United Kingdom
SUMMARY:elrow Town London 2023 - Loyalty Tickets Pre Registration
URL;VALUE=URI:https://elrow.howler.co.za/london23PR
END:VEVENT
END:VCALENDAR
