BEGIN:VCALENDAR
VERSION:2.0
PRODID:icalendar-ruby
CALSCALE:GREGORIAN
METHOD:PUBLISH
BEGIN:VEVENT
DTSTAMP:20260422T171753Z
UID:63b4a866-d736-414c-ad18-69d3a95e7118
DTSTART:20230629T120000
DTEND:20230629T230000
DESCRIPTION:<h3><strong style="color: rgb(180\, 4\, 215)\;">SIGN UP NOW! </
 strong></h3><h3><strong style="color: rgb(180\, 4\, 215)\;">FIRST 3.000 EA
 RLY BIRD TICKETS\, AVAILABLE 12th OF DECEMBER AT 12PM!</strong></h3><p><br
 ></p><ul><li>SATURDAY 29th JUNE 2024 from 12pm to 11pm</li><li>NEW LOCATIO
 N! ES STRAND\, EERSEL</li><li>6 STAGES</li></ul><p><br></p><p><br></p><p><
 br></p><p><br></p><p><br></p>
LOCATION:Buivensedreef 10\, 5521 RN Eersel\, Netherlands
SUMMARY:elrow Town Netherlands 2024 - Sign Up
URL;VALUE=URI:https://elrow.howler.co.za/ertnetherland24SU
END:VEVENT
END:VCALENDAR
